BEGIN:VCALENDAR
VERSION:2.0
PRODID:-//Ecole St Charles - ECPv6.15.20//NONSGML v1.0//EN
CALSCALE:GREGORIAN
METHOD:PUBLISH
X-ORIGINAL-URL:https://stegemmelaplaine-stcharles.fr
X-WR-CALDESC:Évènements pour Ecole St Charles
REFRESH-INTERVAL;VALUE=DURATION:PT1H
X-Robots-Tag:noindex
X-PUBLISHED-TTL:PT1H
BEGIN:VTIMEZONE
TZID:Europe/Paris
BEGIN:DAYLIGHT
TZOFFSETFROM:+0100
TZOFFSETTO:+0200
TZNAME:CEST
DTSTART:20250330T010000
END:DAYLIGHT
BEGIN:STANDARD
TZOFFSETFROM:+0200
TZOFFSETTO:+0100
TZNAME:CET
DTSTART:20251026T010000
END:STANDARD
BEGIN:DAYLIGHT
TZOFFSETFROM:+0100
TZOFFSETTO:+0200
TZNAME:CEST
DTSTART:20260329T010000
END:DAYLIGHT
BEGIN:STANDARD
TZOFFSETFROM:+0200
TZOFFSETTO:+0100
TZNAME:CET
DTSTART:20261025T010000
END:STANDARD
BEGIN:DAYLIGHT
TZOFFSETFROM:+0100
TZOFFSETTO:+0200
TZNAME:CEST
DTSTART:20270328T010000
END:DAYLIGHT
BEGIN:STANDARD
TZOFFSETFROM:+0200
TZOFFSETTO:+0100
TZNAME:CET
DTSTART:20271031T010000
END:STANDARD
END:VTIMEZONE
BEGIN:VEVENT
DTSTART;TZID=Europe/Paris:20260213T090000
DTEND;TZID=Europe/Paris:20260213T140000
DTSTAMP:20260421T183247
CREATED:20260113T225027Z
LAST-MODIFIED:20260204T132207Z
UID:5090-1770973200-1770991200@stegemmelaplaine-stcharles.fr
SUMMARY:Sortie école la Bretonnière
DESCRIPTION:Première rencontre à l’école de la Bretonnière.\nDe 9h à 14h.\nPrévoir le pique-nique.
URL:https://stegemmelaplaine-stcharles.fr/event/classe-dehors-4/
CATEGORIES:Classe maternelle
END:VEVENT
BEGIN:VEVENT
DTSTART;TZID=Europe/Paris:20260213T190000
DTEND;TZID=Europe/Paris:20260213T210000
DTSTAMP:20260421T183247
CREATED:20260205T223449Z
LAST-MODIFIED:20260205T223449Z
UID:5262-1771009200-1771016400@stegemmelaplaine-stcharles.fr
SUMMARY:Réunion APEL
DESCRIPTION:
URL:https://stegemmelaplaine-stcharles.fr/event/reunion-apel/
CATEGORIES:APEL
END:VEVENT
END:VCALENDAR