BEGIN:VCALENDAR
VERSION:2.0
PRODID:-//Ecole St Charles - ECPv6.15.20//NONSGML v1.0//EN
CALSCALE:GREGORIAN
METHOD:PUBLISH
X-ORIGINAL-URL:https://stegemmelaplaine-stcharles.fr
X-WR-CALDESC:Évènements pour Ecole St Charles
REFRESH-INTERVAL;VALUE=DURATION:PT1H
X-Robots-Tag:noindex
X-PUBLISHED-TTL:PT1H
BEGIN:VTIMEZONE
TZID:Europe/Paris
BEGIN:DAYLIGHT
TZOFFSETFROM:+0100
TZOFFSETTO:+0200
TZNAME:CEST
DTSTART:20250330T010000
END:DAYLIGHT
BEGIN:STANDARD
TZOFFSETFROM:+0200
TZOFFSETTO:+0100
TZNAME:CET
DTSTART:20251026T010000
END:STANDARD
BEGIN:DAYLIGHT
TZOFFSETFROM:+0100
TZOFFSETTO:+0200
TZNAME:CEST
DTSTART:20260329T010000
END:DAYLIGHT
BEGIN:STANDARD
TZOFFSETFROM:+0200
TZOFFSETTO:+0100
TZNAME:CET
DTSTART:20261025T010000
END:STANDARD
BEGIN:DAYLIGHT
TZOFFSETFROM:+0100
TZOFFSETTO:+0200
TZNAME:CEST
DTSTART:20270328T010000
END:DAYLIGHT
BEGIN:STANDARD
TZOFFSETFROM:+0200
TZOFFSETTO:+0100
TZNAME:CET
DTSTART:20271031T010000
END:STANDARD
END:VTIMEZONE
BEGIN:VEVENT
DTSTART;TZID=Europe/Paris:20260319T093000
DTEND;TZID=Europe/Paris:20260319T113000
DTSTAMP:20260421T163525
CREATED:20260207T145109Z
LAST-MODIFIED:20260207T145109Z
UID:5277-1773912600-1773919800@stegemmelaplaine-stcharles.fr
SUMMARY:Spectacle "le concert malmené"
DESCRIPTION:Spectacle “le concert malmené”\nClasse CP-CE1-CE2 / classe CM1-CM2 \nSalle Othello\nMareuil sur Lay – Dissais \nde 9h30 à 11h30
URL:https://stegemmelaplaine-stcharles.fr/event/spectacle-le-concert-malmene/
CATEGORIES:Classe CM1-CM2,Classe CP-CE1-CE2
END:VEVENT
BEGIN:VEVENT
DTSTART;TZID=Europe/Paris:20260319T164500
DTEND;TZID=Europe/Paris:20260319T174500
DTSTAMP:20260421T163525
CREATED:20260325T205606Z
LAST-MODIFIED:20260325T205606Z
UID:5458-1773938700-1773942300@stegemmelaplaine-stcharles.fr
SUMMARY:APC GS
DESCRIPTION:
URL:https://stegemmelaplaine-stcharles.fr/event/apc-gs-6/
CATEGORIES:Classe maternelle
END:VEVENT
END:VCALENDAR