BEGIN:VCALENDAR
VERSION:2.0
PRODID:-//Ecole St Charles - ECPv6.15.20//NONSGML v1.0//EN
CALSCALE:GREGORIAN
METHOD:PUBLISH
X-ORIGINAL-URL:https://stegemmelaplaine-stcharles.fr
X-WR-CALDESC:Évènements pour Ecole St Charles
REFRESH-INTERVAL;VALUE=DURATION:PT1H
X-Robots-Tag:noindex
X-PUBLISHED-TTL:PT1H
BEGIN:VTIMEZONE
TZID:Europe/Paris
BEGIN:DAYLIGHT
TZOFFSETFROM:+0100
TZOFFSETTO:+0200
TZNAME:CEST
DTSTART:20250330T010000
END:DAYLIGHT
BEGIN:STANDARD
TZOFFSETFROM:+0200
TZOFFSETTO:+0100
TZNAME:CET
DTSTART:20251026T010000
END:STANDARD
BEGIN:DAYLIGHT
TZOFFSETFROM:+0100
TZOFFSETTO:+0200
TZNAME:CEST
DTSTART:20260329T010000
END:DAYLIGHT
BEGIN:STANDARD
TZOFFSETFROM:+0200
TZOFFSETTO:+0100
TZNAME:CET
DTSTART:20261025T010000
END:STANDARD
BEGIN:DAYLIGHT
TZOFFSETFROM:+0100
TZOFFSETTO:+0200
TZNAME:CEST
DTSTART:20270328T010000
END:DAYLIGHT
BEGIN:STANDARD
TZOFFSETFROM:+0200
TZOFFSETTO:+0100
TZNAME:CET
DTSTART:20271031T010000
END:STANDARD
END:VTIMEZONE
BEGIN:VEVENT
DTSTART;TZID=Europe/Paris:20260205T170000
DTEND;TZID=Europe/Paris:20260205T174500
DTSTAMP:20260421T163433
CREATED:20260112T001239Z
LAST-MODIFIED:20260112T001345Z
UID:5067-1770310800-1770313500@stegemmelaplaine-stcharles.fr
SUMMARY:APC maternelle
DESCRIPTION:APC Moyenne Section\nCassie et Solange
URL:https://stegemmelaplaine-stcharles.fr/event/apc-maternelle-2/
CATEGORIES:Classe maternelle
END:VEVENT
BEGIN:VEVENT
DTSTART;TZID=Europe/Paris:20260206T090000
DTEND;TZID=Europe/Paris:20260206T110000
DTSTAMP:20260421T163433
CREATED:20260113T224954Z
LAST-MODIFIED:20260204T132338Z
UID:5088-1770368400-1770375600@stegemmelaplaine-stcharles.fr
SUMMARY:Bibliothèque
DESCRIPTION:Bibliothèque – de 9h à 11h \nPas de classe dehors
URL:https://stegemmelaplaine-stcharles.fr/event/bibliotheque/
CATEGORIES:Classe maternelle
END:VEVENT
BEGIN:VEVENT
DTSTART;TZID=Europe/Paris:20260212T093000
DTEND;TZID=Europe/Paris:20260212T113000
DTSTAMP:20260421T163433
CREATED:20260207T144820Z
LAST-MODIFIED:20260207T144820Z
UID:5275-1770888600-1770895800@stegemmelaplaine-stcharles.fr
SUMMARY:Spectacle Kazi Classik
DESCRIPTION:Spectacle Kazi Classik\nClasse CP-CE1-CE2 / classe CM1-CM2 \nSalle le Pré Vert – Chaillé les marais\n9h30-11h30
URL:https://stegemmelaplaine-stcharles.fr/event/spectacle-kazi-classik/
CATEGORIES:Classe CM1-CM2,Classe CP-CE1-CE2
END:VEVENT
BEGIN:VEVENT
DTSTART;TZID=Europe/Paris:20260212T170000
DTEND;TZID=Europe/Paris:20260212T174500
DTSTAMP:20260421T163433
CREATED:20260112T001318Z
LAST-MODIFIED:20260112T001318Z
UID:5069-1770915600-1770918300@stegemmelaplaine-stcharles.fr
SUMMARY:APC Maternelle
DESCRIPTION:APC Moyenne Section\nCassie et Solange
URL:https://stegemmelaplaine-stcharles.fr/event/apc-maternelle-3/
CATEGORIES:Classe maternelle
END:VEVENT
BEGIN:VEVENT
DTSTART;TZID=Europe/Paris:20260213T090000
DTEND;TZID=Europe/Paris:20260213T140000
DTSTAMP:20260421T163433
CREATED:20260113T225027Z
LAST-MODIFIED:20260204T132207Z
UID:5090-1770973200-1770991200@stegemmelaplaine-stcharles.fr
SUMMARY:Sortie école la Bretonnière
DESCRIPTION:Première rencontre à l’école de la Bretonnière.\nDe 9h à 14h.\nPrévoir le pique-nique.
URL:https://stegemmelaplaine-stcharles.fr/event/classe-dehors-4/
CATEGORIES:Classe maternelle
END:VEVENT
BEGIN:VEVENT
DTSTART;TZID=Europe/Paris:20260213T190000
DTEND;TZID=Europe/Paris:20260213T210000
DTSTAMP:20260421T163433
CREATED:20260205T223449Z
LAST-MODIFIED:20260205T223449Z
UID:5262-1771009200-1771016400@stegemmelaplaine-stcharles.fr
SUMMARY:Réunion APEL
DESCRIPTION:
URL:https://stegemmelaplaine-stcharles.fr/event/reunion-apel/
CATEGORIES:APEL
END:VEVENT
BEGIN:VEVENT
DTSTART;TZID=Europe/Paris:20260214T000000
DTEND;TZID=Europe/Paris:20260301T233000
DTSTAMP:20260421T163433
CREATED:20260121T210522Z
LAST-MODIFIED:20260121T210733Z
UID:5167-1771027200-1772407800@stegemmelaplaine-stcharles.fr
SUMMARY:Vacances de Février
DESCRIPTION:
URL:https://stegemmelaplaine-stcharles.fr/event/vacances-de-fevrier/
CATEGORIES:Ecole
END:VEVENT
END:VCALENDAR