BEGIN:VCALENDAR
VERSION:2.0
PRODID:-//Ecole St Charles - ECPv6.15.20//NONSGML v1.0//EN
CALSCALE:GREGORIAN
METHOD:PUBLISH
X-ORIGINAL-URL:https://stegemmelaplaine-stcharles.fr
X-WR-CALDESC:Évènements pour Ecole St Charles
REFRESH-INTERVAL;VALUE=DURATION:PT1H
X-Robots-Tag:noindex
X-PUBLISHED-TTL:PT1H
BEGIN:VTIMEZONE
TZID:Europe/Paris
BEGIN:DAYLIGHT
TZOFFSETFROM:+0100
TZOFFSETTO:+0200
TZNAME:CEST
DTSTART:20250330T010000
END:DAYLIGHT
BEGIN:STANDARD
TZOFFSETFROM:+0200
TZOFFSETTO:+0100
TZNAME:CET
DTSTART:20251026T010000
END:STANDARD
BEGIN:DAYLIGHT
TZOFFSETFROM:+0100
TZOFFSETTO:+0200
TZNAME:CEST
DTSTART:20260329T010000
END:DAYLIGHT
BEGIN:STANDARD
TZOFFSETFROM:+0200
TZOFFSETTO:+0100
TZNAME:CET
DTSTART:20261025T010000
END:STANDARD
BEGIN:DAYLIGHT
TZOFFSETFROM:+0100
TZOFFSETTO:+0200
TZNAME:CEST
DTSTART:20270328T010000
END:DAYLIGHT
BEGIN:STANDARD
TZOFFSETFROM:+0200
TZOFFSETTO:+0100
TZNAME:CET
DTSTART:20271031T010000
END:STANDARD
END:VTIMEZONE
BEGIN:VEVENT
DTSTART;TZID=Europe/Paris:20260214T000000
DTEND;TZID=Europe/Paris:20260301T233000
DTSTAMP:20260421T142138
CREATED:20260121T210522Z
LAST-MODIFIED:20260121T210733Z
UID:5167-1771027200-1772407800@stegemmelaplaine-stcharles.fr
SUMMARY:Vacances de Février
DESCRIPTION:
URL:https://stegemmelaplaine-stcharles.fr/event/vacances-de-fevrier/
CATEGORIES:Ecole
END:VEVENT
BEGIN:VEVENT
DTSTART;TZID=Europe/Paris:20260303T164500
DTEND;TZID=Europe/Paris:20260303T173000
DTSTAMP:20260421T142138
CREATED:20260325T205214Z
LAST-MODIFIED:20260325T205214Z
UID:5448-1772556300-1772559000@stegemmelaplaine-stcharles.fr
SUMMARY:APC GS
DESCRIPTION:
URL:https://stegemmelaplaine-stcharles.fr/event/apc-gs/
CATEGORIES:Classe maternelle
END:VEVENT
BEGIN:VEVENT
DTSTART;TZID=Europe/Paris:20260305T164500
DTEND;TZID=Europe/Paris:20260305T173000
DTSTAMP:20260421T142138
CREATED:20260325T205314Z
LAST-MODIFIED:20260325T205314Z
UID:5450-1772729100-1772731800@stegemmelaplaine-stcharles.fr
SUMMARY:APC GS
DESCRIPTION:
URL:https://stegemmelaplaine-stcharles.fr/event/apc-gs-2/
CATEGORIES:Classe maternelle
END:VEVENT
BEGIN:VEVENT
DTSTART;TZID=Europe/Paris:20260306T090000
DTEND;TZID=Europe/Paris:20260306T110000
DTSTAMP:20260421T142138
CREATED:20260304T225848Z
LAST-MODIFIED:20260304T225848Z
UID:5325-1772787600-1772794800@stegemmelaplaine-stcharles.fr
SUMMARY:Bibliothèque
DESCRIPTION:Pas de classe dehors
URL:https://stegemmelaplaine-stcharles.fr/event/bibliotheque-2/
CATEGORIES:Classe maternelle
END:VEVENT
BEGIN:VEVENT
DTSTART;TZID=Europe/Paris:20260307T090000
DTEND;TZID=Europe/Paris:20260307T120000
DTSTAMP:20260421T142138
CREATED:20260304T225421Z
LAST-MODIFIED:20260304T225421Z
UID:5321-1772874000-1772884800@stegemmelaplaine-stcharles.fr
SUMMARY:matinée travaux à l'école
DESCRIPTION:matinée travaux dans l’école de 9h à 12h
URL:https://stegemmelaplaine-stcharles.fr/event/matinee-travaux-a-lecole/
CATEGORIES:OGEC
END:VEVENT
BEGIN:VEVENT
DTSTART;TZID=Europe/Paris:20260310T164500
DTEND;TZID=Europe/Paris:20260310T173000
DTSTAMP:20260421T142138
CREATED:20260325T205408Z
LAST-MODIFIED:20260325T205408Z
UID:5452-1773161100-1773163800@stegemmelaplaine-stcharles.fr
SUMMARY:APC GS
DESCRIPTION:
URL:https://stegemmelaplaine-stcharles.fr/event/apc-gs-3/
CATEGORIES:Classe maternelle
END:VEVENT
BEGIN:VEVENT
DTSTART;TZID=Europe/Paris:20260312T153000
DTEND;TZID=Europe/Paris:20260312T170000
DTSTAMP:20260421T142138
CREATED:20260304T230103Z
LAST-MODIFIED:20260312T205204Z
UID:5329-1773329400-1773334800@stegemmelaplaine-stcharles.fr
SUMMARY:Carnaval
DESCRIPTION:Carnaval dans les rues de Sainte Gemme la Plaine à partir de 15h45.
URL:https://stegemmelaplaine-stcharles.fr/event/carnaval/
CATEGORIES:Ecole
END:VEVENT
BEGIN:VEVENT
DTSTART;TZID=Europe/Paris:20260312T164500
DTEND;TZID=Europe/Paris:20260312T174500
DTSTAMP:20260421T142138
CREATED:20260325T205502Z
LAST-MODIFIED:20260325T205502Z
UID:5454-1773333900-1773337500@stegemmelaplaine-stcharles.fr
SUMMARY:APC GS
DESCRIPTION:
URL:https://stegemmelaplaine-stcharles.fr/event/apc-gs-4/
CATEGORIES:Classe maternelle
END:VEVENT
BEGIN:VEVENT
DTSTART;TZID=Europe/Paris:20260313T090000
DTEND;TZID=Europe/Paris:20260313T110000
DTSTAMP:20260421T142138
CREATED:20260312T204819Z
LAST-MODIFIED:20260312T204819Z
UID:5336-1773392400-1773399600@stegemmelaplaine-stcharles.fr
SUMMARY:Classe dehors
DESCRIPTION:maternelle – classe dehors\njuste prévoir le sac classe dehors pour la journée
URL:https://stegemmelaplaine-stcharles.fr/event/classe-dehors-5/
CATEGORIES:Classe maternelle
END:VEVENT
BEGIN:VEVENT
DTSTART;TZID=Europe/Paris:20260319T093000
DTEND;TZID=Europe/Paris:20260319T113000
DTSTAMP:20260421T142138
CREATED:20260207T145109Z
LAST-MODIFIED:20260207T145109Z
UID:5277-1773912600-1773919800@stegemmelaplaine-stcharles.fr
SUMMARY:Spectacle "le concert malmené"
DESCRIPTION:Spectacle “le concert malmené”\nClasse CP-CE1-CE2 / classe CM1-CM2 \nSalle Othello\nMareuil sur Lay – Dissais \nde 9h30 à 11h30
URL:https://stegemmelaplaine-stcharles.fr/event/spectacle-le-concert-malmene/
CATEGORIES:Classe CM1-CM2,Classe CP-CE1-CE2
END:VEVENT
BEGIN:VEVENT
DTSTART;TZID=Europe/Paris:20260319T164500
DTEND;TZID=Europe/Paris:20260319T174500
DTSTAMP:20260421T142138
CREATED:20260325T205606Z
LAST-MODIFIED:20260325T205606Z
UID:5458-1773938700-1773942300@stegemmelaplaine-stcharles.fr
SUMMARY:APC GS
DESCRIPTION:
URL:https://stegemmelaplaine-stcharles.fr/event/apc-gs-6/
CATEGORIES:Classe maternelle
END:VEVENT
BEGIN:VEVENT
DTSTART;TZID=Europe/Paris:20260320T090000
DTEND;TZID=Europe/Paris:20260320T110000
DTSTAMP:20260421T142138
CREATED:20260312T204936Z
LAST-MODIFIED:20260312T204936Z
UID:5339-1773997200-1774004400@stegemmelaplaine-stcharles.fr
SUMMARY:classe dehors
DESCRIPTION:maternelle – classe dehors\njuste prévoir le sac classe dehors pour la journée
URL:https://stegemmelaplaine-stcharles.fr/event/classe-dehors-6/
CATEGORIES:Classe maternelle
END:VEVENT
BEGIN:VEVENT
DTSTART;TZID=Europe/Paris:20260320T183000
DTEND;TZID=Europe/Paris:20260320T200000
DTSTAMP:20260421T142138
CREATED:20260304T230017Z
LAST-MODIFIED:20260304T230017Z
UID:5327-1774031400-1774036800@stegemmelaplaine-stcharles.fr
SUMMARY:Concert "Apprendre par le violon"
DESCRIPTION:18h30 à la salle des fêtes de Sainte Gemme la Plaine.\nLes enfants seront présents à 18h15.
URL:https://stegemmelaplaine-stcharles.fr/event/concert-apprendre-par-le-violon/
CATEGORIES:Ecole
END:VEVENT
BEGIN:VEVENT
DTSTART;TZID=Europe/Paris:20260324T164500
DTEND;TZID=Europe/Paris:20260324T174500
DTSTAMP:20260421T142138
CREATED:20260325T205638Z
LAST-MODIFIED:20260325T205638Z
UID:5460-1774370700-1774374300@stegemmelaplaine-stcharles.fr
SUMMARY:APC GS
DESCRIPTION:
URL:https://stegemmelaplaine-stcharles.fr/event/apc-gs-7/
CATEGORIES:Classe maternelle
END:VEVENT
BEGIN:VEVENT
DTSTART;TZID=Europe/Paris:20260326T164500
DTEND;TZID=Europe/Paris:20260326T174500
DTSTAMP:20260421T142138
CREATED:20260325T205709Z
LAST-MODIFIED:20260325T205709Z
UID:5462-1774543500-1774547100@stegemmelaplaine-stcharles.fr
SUMMARY:APC GS
DESCRIPTION:
URL:https://stegemmelaplaine-stcharles.fr/event/apc-gs-8/
CATEGORIES:Classe maternelle
END:VEVENT
BEGIN:VEVENT
DTSTART;TZID=Europe/Paris:20260327T090000
DTEND;TZID=Europe/Paris:20260327T110000
DTSTAMP:20260421T142138
CREATED:20260312T205001Z
LAST-MODIFIED:20260312T205019Z
UID:5341-1774602000-1774609200@stegemmelaplaine-stcharles.fr
SUMMARY:classe dehors
DESCRIPTION:maternelle – classe dehors\njuste prévoir le sac classe dehors pour la journée
URL:https://stegemmelaplaine-stcharles.fr/event/classe-dehors-7/
CATEGORIES:Classe maternelle
END:VEVENT
BEGIN:VEVENT
DTSTART;TZID=Europe/Paris:20260327T183000
DTEND;TZID=Europe/Paris:20260327T200000
DTSTAMP:20260421T142138
CREATED:20260325T202957Z
LAST-MODIFIED:20260325T202957Z
UID:5402-1774636200-1774641600@stegemmelaplaine-stcharles.fr
SUMMARY:Conseil Etablissement
DESCRIPTION:
URL:https://stegemmelaplaine-stcharles.fr/event/conseil-etablissement/
CATEGORIES:Ecole
END:VEVENT
BEGIN:VEVENT
DTSTART;TZID=Europe/Paris:20260331T164500
DTEND;TZID=Europe/Paris:20260331T174500
DTSTAMP:20260421T142138
CREATED:20260325T210010Z
LAST-MODIFIED:20260325T210010Z
UID:5468-1774975500-1774979100@stegemmelaplaine-stcharles.fr
SUMMARY:APC GS
DESCRIPTION:
URL:https://stegemmelaplaine-stcharles.fr/event/apc-gs-11/
CATEGORIES:Classe maternelle
END:VEVENT
END:VCALENDAR